BEGIN:VCALENDAR
VERSION:2.0
PRODID:-//SVP Thurgau //NONSGML Events //EN
CALSCALE:GREGORIAN
X-WR-CALNAME:SVP Thurgau
BEGIN:VEVENT
CREATED:20220829T113724Z
UID:14754
DTEND:20220924T110000
DTSTART:20220924T100000
DTSTAMP:20260421T120032Z
LOCATION:Alters- und Pflegezentrum Amriswil
DESCRIPTION:Podiumsgäste Jakob Stark  SVP Ständerat SVP Kurt Egger Nationalrat 
SUMMARY:Öffentliches Energiepodium
ORGANIZER:SVP Amriswil
URL;VALUE=URI:https://www.svp-thurgau.ch/aktuell/termine/oeffentliches-energiepodium/
TRANSP:OPAQUE
END:VEVENT
END:VCALENDAR
