BEGIN:VCALENDAR
VERSION:2.0
PRODID:-//SVP Thurgau //NONSGML Events //EN
CALSCALE:GREGORIAN
X-WR-CALNAME:SVP Thurgau
BEGIN:VEVENT
CREATED:20221021T042104Z
UID:14874
DTEND:20231222T000000
DTSTART:20231204T000000
DTSTAMP:20260420T142728Z
LOCATION:
DESCRIPTION:
SUMMARY:Session Eidgenössische Räte
ORGANIZER:
URL;VALUE=URI:https://www.svp-thurgau.ch/aktuell/termine/session-eidgenoessische-raete-5/
TRANSP:OPAQUE
END:VEVENT
END:VCALENDAR
