BEGIN:VCALENDAR
VERSION:2.0
PRODID:-//SVP Thurgau //NONSGML Events //EN
CALSCALE:GREGORIAN
X-WR-CALNAME:SVP Thurgau
BEGIN:VEVENT
CREATED:20221021T042106Z
UID:14914
DTEND:20231022T000000
DTSTART:20231022T000000
DTSTAMP:20260420T142507Z
LOCATION:
DESCRIPTION:
SUMMARY:Eidgenössische Wahlen
ORGANIZER:
URL;VALUE=URI:https://www.svp-thurgau.ch/aktuell/termine/eidgenoessische-wahlen/
TRANSP:OPAQUE
END:VEVENT
END:VCALENDAR
