BEGIN:VCALENDAR
VERSION:2.0
PRODID:-//SVP Thurgau //NONSGML Events //EN
CALSCALE:GREGORIAN
X-WR-CALNAME:SVP Thurgau
BEGIN:VEVENT
CREATED:20231108T155048Z
UID:17050
DTEND:20231214T210000
DTSTART:20231214T200000
DTSTAMP:20260425T173218Z
LOCATION:Dammbühlhalle (Steinlerstrasse 22)\, 9545 Wängi
DESCRIPTION:
SUMMARY:Nominations-Delegiertenversammlung
ORGANIZER:
URL;VALUE=URI:https://www.svp-thurgau.ch/aktuell/termine/nominations-delegiertenversammlung/
TRANSP:OPAQUE
END:VEVENT
END:VCALENDAR
