BEGIN:VCALENDAR
VERSION:2.0
PRODID:-//SVP Thurgau //NONSGML Events //EN
CALSCALE:GREGORIAN
X-WR-CALNAME:SVP Thurgau
BEGIN:VEVENT
CREATED:20241004T073745Z
UID:18488
DTEND:20250329T000000
DTSTART:20250329T000000
DTSTAMP:20260419T141341Z
LOCATION:VD
DESCRIPTION:
SUMMARY:Delegiertenversammlung &#8211\; SVP Schweiz
ORGANIZER:
URL;VALUE=URI:https://www.svp-thurgau.ch/aktuell/termine/delegiertenversammlung-svp-schweiz-19/
TRANSP:OPAQUE
END:VEVENT
END:VCALENDAR
