BEGIN:VCALENDAR
VERSION:2.0
PRODID:-//SVP Thurgau //NONSGML Events //EN
CALSCALE:GREGORIAN
X-WR-CALNAME:SVP Thurgau
BEGIN:VEVENT
CREATED:20251007T043412Z
UID:20167
DTEND:20260424T000000
DTSTART:20260424T000000
DTSTAMP:20260423T164422Z
LOCATION:Am Wellenberg
DESCRIPTION:
SUMMARY:Delegiertenversammlungen TG
ORGANIZER:
URL;VALUE=URI:https://www.svp-thurgau.ch/aktuell/termine/delegiertenversammlungen-tg-11/
TRANSP:OPAQUE
END:VEVENT
END:VCALENDAR
