BEGIN:VCALENDAR
VERSION:2.0
PRODID:-//SVP Thurgau //NONSGML Events //EN
CALSCALE:GREGORIAN
X-WR-CALNAME:SVP Thurgau
BEGIN:VEVENT
CREATED:20251007T043412Z
UID:20172
DTEND:20260430T000000
DTSTART:20260430T000000
DTSTAMP:20260423T192524Z
LOCATION:
DESCRIPTION:
SUMMARY:Kantonalvorstand &#8211\; SVP Thurgau
ORGANIZER:
URL;VALUE=URI:https://www.svp-thurgau.ch/aktuell/termine/kantonalvorstand-svp-thurgau-8/
TRANSP:OPAQUE
END:VEVENT
END:VCALENDAR
