BEGIN:VCALENDAR
VERSION:2.0
PRODID:-//SVP Thurgau //NONSGML Events //EN
CALSCALE:GREGORIAN
X-WR-CALNAME:SVP Thurgau
BEGIN:VEVENT
CREATED:20251007T043413Z
UID:20190
DTEND:20260527T000000
DTSTART:20260527T000000
DTSTAMP:20260423T212242Z
LOCATION:
DESCRIPTION:
SUMMARY:Grosser Rat / Fraktion
ORGANIZER:
URL;VALUE=URI:https://www.svp-thurgau.ch/aktuell/termine/grosser-rat-fraktion-62/
TRANSP:OPAQUE
END:VEVENT
END:VCALENDAR
