BEGIN:VCALENDAR
VERSION:2.0
PRODID:-//SVP Thurgau //NONSGML Events //EN
CALSCALE:GREGORIAN
X-WR-CALNAME:SVP Thurgau
BEGIN:VEVENT
CREATED:20251008T054208Z
UID:20222
DTEND:20260527T000000
DTSTART:20260527T000000
DTSTAMP:20260423T192836Z
LOCATION:Raum Arbon
DESCRIPTION:
SUMMARY:Fraktionsausflug &#8211\; SVP Thurgau
ORGANIZER:
URL;VALUE=URI:https://www.svp-thurgau.ch/aktuell/termine/fraktionsausflug-svp-thurgau-2/
TRANSP:OPAQUE
END:VEVENT
END:VCALENDAR
