BEGIN:VCALENDAR
VERSION:2.0
PRODID:-//SVP Thurgau //NONSGML Events //EN
CALSCALE:GREGORIAN
X-WR-CALNAME:SVP Thurgau
BEGIN:VEVENT
CREATED:20251008T054544Z
UID:20226
DTEND:20260510T000000
DTSTART:20260509T000000
DTSTAMP:20260423T163703Z
LOCATION:Schützenhaus Oberer Letten in Oberbussnang
DESCRIPTION:Mehr Informationen
SUMMARY:SVP Schiessen &#8211\; SVP Thurgau
ORGANIZER:
URL;VALUE=URI:https://www.svp-thurgau.ch/aktuell/termine/svp-schiessen-svp-thurgau-2/
TRANSP:OPAQUE
END:VEVENT
END:VCALENDAR
