BEGIN:VCALENDAR
VERSION:2.0
PRODID:-//SVP Thurgau //NONSGML Events //EN
CALSCALE:GREGORIAN
X-WR-CALNAME:SVP Thurgau
BEGIN:VEVENT
CREATED:20260420T091202Z
UID:20703
DTEND:20260421T200000
DTSTART:20260421T190000
DTSTAMP:20260420T151818Z
LOCATION:Online
DESCRIPTION:Jetzt gilt es ernst: Der Abstimmungstermin unserer Nachhaltigkeits-Ini
SUMMARY:Online-Veranstaltung: Webinar «Keine 10-Millionen-Schweiz»
ORGANIZER:
URL;VALUE=URI:https://www.svp-thurgau.ch/aktuell/termine/online-veranstaltung-webinar-keine-10-millionen-schweiz/
TRANSP:OPAQUE
END:VEVENT
END:VCALENDAR
